BEGIN:VCALENDAR
VERSION:2.0
PRODID:-//Stadthalle Waltrop - ECPv6.15.12.2//NONSGML v1.0//EN
CALSCALE:GREGORIAN
METHOD:PUBLISH
X-WR-CALNAME:Stadthalle Waltrop
X-ORIGINAL-URL:https://stadthallewaltrop.de
X-WR-CALDESC:Veranstaltungen für Stadthalle Waltrop
REFRESH-INTERVAL;VALUE=DURATION:PT1H
X-Robots-Tag:noindex
X-PUBLISHED-TTL:PT1H
BEGIN:VTIMEZONE
TZID:Europe/Berlin
BEGIN:DAYLIGHT
TZOFFSETFROM:+0100
TZOFFSETTO:+0200
TZNAME:CEST
DTSTART:20230326T010000
END:DAYLIGHT
BEGIN:STANDARD
TZOFFSETFROM:+0200
TZOFFSETTO:+0100
TZNAME:CET
DTSTART:20231029T010000
END:STANDARD
BEGIN:DAYLIGHT
TZOFFSETFROM:+0100
TZOFFSETTO:+0200
TZNAME:CEST
DTSTART:20240331T010000
END:DAYLIGHT
BEGIN:STANDARD
TZOFFSETFROM:+0200
TZOFFSETTO:+0100
TZNAME:CET
DTSTART:20241027T010000
END:STANDARD
BEGIN:DAYLIGHT
TZOFFSETFROM:+0100
TZOFFSETTO:+0200
TZNAME:CEST
DTSTART:20250330T010000
END:DAYLIGHT
BEGIN:STANDARD
TZOFFSETFROM:+0200
TZOFFSETTO:+0100
TZNAME:CET
DTSTART:20251026T010000
END:STANDARD
END:VTIMEZONE
BEGIN:VEVENT
DTSTART;TZID=Europe/Berlin:20241208T103000
DTEND;TZID=Europe/Berlin:20241208T133000
DTSTAMP:20260424T181004
CREATED:20240731T061433Z
LAST-MODIFIED:20240731T061433Z
UID:10000103-1733653800-1733664600@stadthallewaltrop.de
SUMMARY:Kulturbrunch mit den Heart Devils
DESCRIPTION:Die Heart Devils spielen Acoustic Rock’n’Roll\, Country und Ameri-cana im Stil der Everly Brothers\, Johnny Cash\, Elvis Presley\, Carl Perkins\, Buddy Holly und Chuck Berry. Neben Rock’n’roll- und Coun-try-Klassikern umfasst das Repertoire Titel von Bruce Springsteen\, Mark Knopfler\, U 2\, Creedence Clearwater\, John Denver\, Mark Cohn\, John Hiatt\, Chris Isaac u. a. sowie eigene Songs im typischen Heart Devils-Sound. \nTickes unter: Tickets (kulturbuero-waltrop.de)
URL:https://stadthallewaltrop.de/event/kulturbrunch-mit-den-heart-devils/
LOCATION:Foyer
CATEGORIES:Brunch
ATTACH;FMTTYPE=image/png:https://stadthallewaltrop.de/wp-content/uploads/2024/07/HDPressefotoKnT-e1722406452744.png
ORGANIZER;CN="Kulturb%C3%BCro der Stadt Waltrop":MAILTO:info@kulturbuero-waltrop.de
END:VEVENT
BEGIN:VEVENT
DTSTART;TZID=Europe/Berlin:20241110T103000
DTEND;TZID=Europe/Berlin:20241110T133000
DTSTAMP:20260424T181004
CREATED:20240731T061019Z
LAST-MODIFIED:20240731T061019Z
UID:10000102-1731234600-1731245400@stadthallewaltrop.de
SUMMARY:Kulturbrunch mit Rolf Kindmann & Udo Herbst
DESCRIPTION:Udo Herbst (Gitarre) und Rolf Kindmann (Gesang\, Gitarre) haben ein reichhaltiges Reportoire aus den Bereichen Rock\, Pop\, Folk\, Spirituals und Jazz. Für den Kulturbrunch  haben sie bekannte eng-lische und deutsche Lieder ausgewählt\, die Brunchen und Kultur in angenehmer Atmosphäre verbinden. Es darf mitgesungen werden. \nTickets unter: Tickets (kulturbuero-waltrop.de)
URL:https://stadthallewaltrop.de/event/kulturbrunch-mit-rolf-kindmann-udo-herbst/
LOCATION:Foyer
CATEGORIES:Brunch
ATTACH;FMTTYPE=image/jpeg:https://stadthallewaltrop.de/wp-content/uploads/2024/07/Rolf-und-Udo-Foto-Michael-Blandowski.jpg
ORGANIZER;CN="Kulturb%C3%BCro der Stadt Waltrop":MAILTO:info@kulturbuero-waltrop.de
END:VEVENT
BEGIN:VEVENT
DTSTART;TZID=Europe/Berlin:20241013T103000
DTEND;TZID=Europe/Berlin:20241013T133000
DTSTAMP:20260424T181004
CREATED:20240731T060814Z
LAST-MODIFIED:20240731T060814Z
UID:10000101-1728815400-1728826200@stadthallewaltrop.de
SUMMARY:Kulturbrunch mit Kelsey Klamath
DESCRIPTION:Geboren in England und inspiriert von Dolly Parton & Stevie Nicks\, wusste Kelsey schon als Teenager\, dass sie Musikerin werden wollte. Nachdem sie in Deutschland viele gefeierte Auftritte absolvierte\, verlegte sie ihren Lebensmittelpunkt dorthin. Ihr umfangreiches Programm enthält Songs der 60er bis 80er\, mit einer besonderen Liebe zur Country-Musik. Und das mit einer Stimme\, die Eis zum Schmelzen bringt und Feuer entfacht. Mit ihrem stilvollen\, aber durchaus frechen Temperament fesselt sie auf der Bühne und begeistert garantiert jedes Publikum mit ihrer abwechslungsreichen Mischung von Songs aus Rock\, Pop\, Folk\, Country. \nTickets unter: Tickets (kulturbuero-waltrop.de)
URL:https://stadthallewaltrop.de/event/kulturbrunch-mit-kelsey-klamath/
LOCATION:Foyer
CATEGORIES:Brunch
ATTACH;FMTTYPE=image/jpeg:https://stadthallewaltrop.de/wp-content/uploads/2024/07/Kelsey-Klamath-scaled-e1722406074161.jpg
ORGANIZER;CN="Kulturb%C3%BCro der Stadt Waltrop":MAILTO:info@kulturbuero-waltrop.de
END:VEVENT
END:VCALENDAR