BEGIN:VCALENDAR
VERSION:2.0
PRODID:-//Stadthalle Waltrop - ECPv6.15.12.2//NONSGML v1.0//EN
CALSCALE:GREGORIAN
METHOD:PUBLISH
X-WR-CALNAME:Stadthalle Waltrop
X-ORIGINAL-URL:https://stadthallewaltrop.de
X-WR-CALDESC:Veranstaltungen für Stadthalle Waltrop
REFRESH-INTERVAL;VALUE=DURATION:PT1H
X-Robots-Tag:noindex
X-PUBLISHED-TTL:PT1H
BEGIN:VTIMEZONE
TZID:Europe/Berlin
BEGIN:DAYLIGHT
TZOFFSETFROM:+0100
TZOFFSETTO:+0200
TZNAME:CEST
DTSTART:20230326T010000
END:DAYLIGHT
BEGIN:STANDARD
TZOFFSETFROM:+0200
TZOFFSETTO:+0100
TZNAME:CET
DTSTART:20231029T010000
END:STANDARD
BEGIN:DAYLIGHT
TZOFFSETFROM:+0100
TZOFFSETTO:+0200
TZNAME:CEST
DTSTART:20240331T010000
END:DAYLIGHT
BEGIN:STANDARD
TZOFFSETFROM:+0200
TZOFFSETTO:+0100
TZNAME:CET
DTSTART:20241027T010000
END:STANDARD
BEGIN:DAYLIGHT
TZOFFSETFROM:+0100
TZOFFSETTO:+0200
TZNAME:CEST
DTSTART:20250330T010000
END:DAYLIGHT
BEGIN:STANDARD
TZOFFSETFROM:+0200
TZOFFSETTO:+0100
TZNAME:CET
DTSTART:20251026T010000
END:STANDARD
BEGIN:DAYLIGHT
TZOFFSETFROM:+0100
TZOFFSETTO:+0200
TZNAME:CEST
DTSTART:20260329T010000
END:DAYLIGHT
BEGIN:STANDARD
TZOFFSETFROM:+0200
TZOFFSETTO:+0100
TZNAME:CET
DTSTART:20261025T010000
END:STANDARD
BEGIN:DAYLIGHT
TZOFFSETFROM:+0100
TZOFFSETTO:+0200
TZNAME:CEST
DTSTART:20270328T010000
END:DAYLIGHT
BEGIN:STANDARD
TZOFFSETFROM:+0200
TZOFFSETTO:+0100
TZNAME:CET
DTSTART:20271031T010000
END:STANDARD
END:VTIMEZONE
BEGIN:VEVENT
DTSTART;TZID=Europe/Berlin:20260221T200000
DTEND;TZID=Europe/Berlin:20260221T230000
DTSTAMP:20260424T193809
CREATED:20251121T081007Z
LAST-MODIFIED:20251121T081035Z
UID:10000107-1771704000-1771714800@stadthallewaltrop.de
SUMMARY:Bernd Stelter - Reg’ dich nicht auf. Gibt nur Falten!
DESCRIPTION:Knöllchen an der Windschutzscheibe\, die langsame Kassiererin\, das Wetter oder die große Politik – es gibt so vieles\, worüber du dich im Alltag ärgern könntest. Jeder Ärger gräbt sich als Zornesfalte tief zwischen deine Augenbrauen. Aber wer lacht\, wird nicht nur attraktiver\, sondern fühlt sich auch gleich viel besser. Lachen entspannt\, tut der Seele gut und ist die beste Schönheitskur – ganz ohne Botox. \nIn seinem neuen Programm „Reg’ dich nicht auf. Gibt nur Falten!“ lädt dich Bernd Stelter zu einem Abend voller Humor und Lebensfreude ein. Zwei Stunden lang wird gelacht\, gelächelt und das Hautbild ganz nebenbei verbessert. Deine Mundwinkel wandern nach oben\, dein Herz wird leichter und dein Gehirn bekommt eine erfrischende Sauerstoffdusche. \nFreu dich auf einen Abend\, der dir garantiert ein Lächeln ins Gesicht zaubert und kleine Sorgen einfach weglacht. Bernd Stelter zeigt dir\, dass man dem Leben am besten mit guter Laune begegnet. \nTickets unter www.kulturbuero-waltrop.de/tickets
URL:https://stadthallewaltrop.de/event/bernd-stelter-reg-dich-nicht-auf-gibt-nur-falten/
LOCATION:Saal 1 + 2
CATEGORIES:Kleinkunst/Comedy/Kabarett
ATTACH;FMTTYPE=image/jpeg:https://stadthallewaltrop.de/wp-content/uploads/2025/11/Bernd_Stelter_RegDichnichtauf_13x18-1.jpg
ORGANIZER;CN="Kulturb%C3%BCro der Stadt Waltrop":MAILTO:info@kulturbuero-waltrop.de
END:VEVENT
BEGIN:VEVENT
DTSTART;TZID=Europe/Berlin:20260122T200000
DTEND;TZID=Europe/Berlin:20260122T230000
DTSTAMP:20260424T193809
CREATED:20251121T080845Z
LAST-MODIFIED:20251121T080845Z
UID:10000106-1769112000-1769122800@stadthallewaltrop.de
SUMMARY:Herbert Knebels Affentheater - VOLL KARACHO!
DESCRIPTION:Seit 37 Jahren sind sie unterwegs – und kein bisschen leise! Herbert Knebel\, Ozzy Ostermann und Ernst Pichel geben in ihrem neuen Programm „VOLL KARACHO!“ wieder alles. Auch wenn der Trainer in den Ruhestand gegangen ist\, dreht das Affentheater-Ensemble noch mal richtig auf. Da wird gerockt\, gelacht und improvisiert\, was das Zeug hält – ganz nach dem Motto: „Et kütt\, wie et kütt – und zwar laut!“ \nUnterstützt werden die Jungs von drei musikalischen Granaten: Tomek an der Trompete\, Ludek an der Posaune und natürlich „Bumm-Bumm“-Roy an der Schießbude – mehr Wumms geht nicht. Ob Sketche\, Musik oder einfach nur blanker Wahnsinn: Hier bleibt kein Auge trocken und kein Fuß still. \nEin Abend voller Energie\, Nostalgie und Lachsalven im Minutentakt. Wer Herbert Knebel kennt\, weiß\, was ihn erwartet – wer nicht\, sollte das schleunigst ändern. Die Tickets werden knapp – also nix wie los: Ab in den nächsten Ticketshop und rein ins Vergnügen! \nVolle Kanne\, volle Hütte – VOLL KARACHO! \nTickets unter www.kulturbuero-waltrop.de/tickets
URL:https://stadthallewaltrop.de/event/herbert-knebels-affentheater-voll-karacho/
LOCATION:Saal 1 + 2
CATEGORIES:Kleinkunst/Comedy/Kabarett
ATTACH;FMTTYPE=image/jpeg:https://stadthallewaltrop.de/wp-content/uploads/2025/11/Karacho_HKA-003-scaled.jpg
ORGANIZER;CN="Kulturb%C3%BCro der Stadt Waltrop":MAILTO:info@kulturbuero-waltrop.de
END:VEVENT
BEGIN:VEVENT
DTSTART;TZID=Europe/Berlin:20251212T200000
DTEND;TZID=Europe/Berlin:20251212T230000
DTSTAMP:20260424T193809
CREATED:20251121T080648Z
LAST-MODIFIED:20251121T080648Z
UID:10000105-1765569600-1765580400@stadthallewaltrop.de
SUMMARY:Jürgen von der Lippe - Sextextsextett
DESCRIPTION:Jürgen von der Lippe begeistert seit Jahrzehnten als brillanter Entertainer\, Moderator und Autor. Mit Auszeichnungen wie dem Bambi\, dem Grimme-Preis und der Goldenen Kamera ist er eine feste Größe der deutschen Kulturszene. Seine Bücher finden sich regelmäßig auf den Bestsellerlisten – nun sorgt sein neuestes Werk „Sextextsextett“ für Furore. \nSchon der Titel verspricht Witz und Originalität: Eine Sammlung von Zungen- und Eisbrechern\, die mal zeitlos\, mal herrlich geistlos daherkommen. Jürgen von der Lippe beleuchtet drängende Fragen des Alltags\, etwa: „Wie macht man achtsam Schluss?“ oder „Welche Botschaften verbirgt Sprache bei Haarausfall?“ Sprachspiele treffen auf tiefgründigen Humor\, wenn er Goethes erotische Lyrik mit der von Hermann Löns vergleicht. \nEin besonderes Highlight ist seine „Xenologophilie“ – die Liebe zu Fremdwörtern. Diese erklärt er charmant mit Witzen\, etwa zum Malapropismus\, der Verwechslung ähnlich klingender Begriffe. Wie viele Bedeutungen kann der Satz „Ich habe einen Finger im Po“ haben? Lesen Sie selbst – ein Vergnügen voller Esprit und Sprachwitz erwartet Sie! \nAusverkauft. 
URL:https://stadthallewaltrop.de/event/juergen-von-der-lippe-sextextsextett/
LOCATION:Saal 1 + 2
CATEGORIES:Kleinkunst/Comedy/Kabarett
ATTACH;FMTTYPE=image/jpeg:https://stadthallewaltrop.de/wp-content/uploads/2025/11/01_JvdL_Pressefotos_Andre-Kowalski_2017_quer-scaled.jpg
ORGANIZER;CN="Kulturb%C3%BCro der Stadt Waltrop":MAILTO:info@kulturbuero-waltrop.de
END:VEVENT
BEGIN:VEVENT
DTSTART;TZID=Europe/Berlin:20250510T200000
DTEND;TZID=Europe/Berlin:20250510T230000
DTSTAMP:20260424T193809
CREATED:20240731T060548Z
LAST-MODIFIED:20240731T060548Z
UID:10000100-1746907200-1746918000@stadthallewaltrop.de
SUMMARY:Lioba Albus - Ende offen
DESCRIPTION:Wer nie Schluss macht\, kann auch nicht neu beginnen. Wir alle haben in unserem Leben schon so einige Male Schluss gemacht. Mit dem Partner\, mit dem Rauchen\, mit der Freundin oder mit dem Nägelkauen. Und daher wissen wir: Schönes Schlussmachen will gelernt sein. Wer könnte der Menschheit da hilfreicher zur Seite stehen\, als Mia Mittelkötter\, die uneingeschränkte Fachfrau für alles. Schließlich hat sie ihrem trägen Dauersesselbewohner\, dem Ehemann Gustav\, schon häufig angedroht\, ihn endgültig zu verlassen. Der aber hat sie immer nur angestrahlt und gesagt: „Au ja\, ich komme mit!“ Ob Mias Publikum da genauso reagiert\, wenn sie ankündigt\, die Bühne für immer zu verlassen? \nIn ihrem Abschiedsprogramm beschäftigt sich die Dortmunder Kabarettistin mit dem Thema Aufhören. Zur Seite stehen ihr dabei wie immer\, die Pommesfachverkäuferin Witta\, der Promillphilsosoph Detlev und natürlich Mia Mittelkötter. In einer temporeichen Show bietet Albus Neues und Bewährtes und zeigt brandneue Nummern im Mix mit den besten Filetstückchen aus 35 Jahren Kabarett. Schließlich weiß sie: Man soll aufhören\, wenn’s am schönsten ist. Aber war es wirklich schon am schönsten? Das erfährt nur\, wer sich das letzte Kabarettprogramm von Lioba Albus selbst anschaut. Und natürlich gilt danach\, der Letzte macht das Licht aus. Und das ist immer der/die TechnikerIn. \nTickets unter: Tickets (kulturbuero-waltrop.de)
URL:https://stadthallewaltrop.de/event/lioba-albus-ende-offen/
LOCATION:Saal 1 + 2
CATEGORIES:Kleinkunst/Comedy/Kabarett
ATTACH;FMTTYPE=image/jpeg:https://stadthallewaltrop.de/wp-content/uploads/2024/07/Lioba-Albus_Ende-offen_Quelle-Olli-Haas-3.jpg
ORGANIZER;CN="Kulturb%C3%BCro der Stadt Waltrop":MAILTO:info@kulturbuero-waltrop.de
END:VEVENT
BEGIN:VEVENT
DTSTART;TZID=Europe/Berlin:20250410T200000
DTEND;TZID=Europe/Berlin:20250410T230000
DTSTAMP:20260424T193809
CREATED:20240731T060357Z
LAST-MODIFIED:20240731T060357Z
UID:10000099-1744315200-1744326000@stadthallewaltrop.de
SUMMARY:Frank Goosen - Heimat\, Fußball\, Rockmusik
DESCRIPTION:Pointensicheres Kabarett aus dem Ruhrgebiet! Die Gegend\, wo man herkommt oder hingehört\, das Spiel Elf gegen Elf und elektrisch verstärkter Lärm mit Melodie und alkoholischen Getränken – das sind die Themenfelder\, auf denen sich Frank Goosen bewegt. \nIn „Heimat\, Fußball\, Rockmusik“ hat er eine bunte Mischung bewährter Stücke zusammengestellt und lässt vielleicht sogar die eine oder andere neue Geschichte mit einfließen\, von Omma\, Oppa\, Vatta\, Mutta\, Kind\, Theo oder Scotty oder den vielen andere Helden seines Schaffens. Es wird lustig\, und es wird komisch! \nTickets unter: Tickets (kulturbuero-waltrop.de)
URL:https://stadthallewaltrop.de/event/frank-goosen-heimat-fussball-rockmusik/
LOCATION:Saal 1 + 2
CATEGORIES:Kleinkunst/Comedy/Kabarett
ATTACH;FMTTYPE=image/jpeg:https://stadthallewaltrop.de/wp-content/uploads/2024/07/STEF9234-scaled.jpg
ORGANIZER;CN="Kulturb%C3%BCro der Stadt Waltrop":MAILTO:info@kulturbuero-waltrop.de
END:VEVENT
BEGIN:VEVENT
DTSTART;TZID=Europe/Berlin:20250223T200000
DTEND;TZID=Europe/Berlin:20250223T230000
DTSTAMP:20260424T193809
CREATED:20240731T060122Z
LAST-MODIFIED:20241027T052756Z
UID:10000098-1740340800-1740351600@stadthallewaltrop.de
SUMMARY:Bernhard Hoëcker - Morgen war gestern alles besser
DESCRIPTION:Das sechste Soloprogramm von Bernhard Hoëcker läuft sich warm. Der Comedian wird sich wieder um das Wohl der Menschheit kümmern und ihr über seine mentale Trittleiter den Aufstieg erleichtern. Wie sind die Dinge des Lebens eigentlich richtig zu sehen? Gibt es überhaupt ein Richtig oder doch fast eher nur ein Falsch? Was soll das überhaupt alles? Nachhaltig\, vegan oder sprachlos? Fakten legt Bernhard Hoëcker vorher auf sämtliche Prüfsteine und mariniert\, dreht\, seziert und wendet sie auf seinem Geistesgrill. Erst dann wird angerichtet. \nWie steht es eigentlich z.B. um das autonome Fahren? Wird da alles richtig gemacht oder auch ein bisschen falsch? Oder greift da irgendeiner mal gerade so richtig daneben und den Philanthropen gruselt es? Warum verlottert eigentlich unsere Sprache? Oder ist das auch schon wieder nicht richtig? Diesen und so manch anderen Problemen nimmt sich Autopilot Bernhard Hoëcker an\, bevor er sein Publikum damit behelligt\, begeistert und in den freien Fall entlässt. Eines steht fest: Der Key-Influencer aus der Riege des Comedy-Personals ist mit Wissen und Erkenntnis gewappnet. Das darf man sich einfach nicht entgehen lassen und sollte sich unbedingt ein Scheibchen davon abschneiden. \nTickets unter: Tickets (kulturbuero-waltrop.de)
URL:https://stadthallewaltrop.de/event/bernhard-hoecker-morgen-war-gestern-alles-besser/
LOCATION:Saal 1 + 2
CATEGORIES:Kleinkunst/Comedy/Kabarett
ATTACH;FMTTYPE=image/jpeg:https://stadthallewaltrop.de/wp-content/uploads/2024/07/BERNHARD-HOECKER2_Fotograf-MorrisMacMatzen-scaled.jpg
ORGANIZER;CN="Kulturb%C3%BCro der Stadt Waltrop":MAILTO:info@kulturbuero-waltrop.de
END:VEVENT
BEGIN:VEVENT
DTSTART;TZID=Europe/Berlin:20241116T200000
DTEND;TZID=Europe/Berlin:20241116T230000
DTSTAMP:20260424T193809
CREATED:20240731T055831Z
LAST-MODIFIED:20240731T055831Z
UID:10000097-1731787200-1731798000@stadthallewaltrop.de
SUMMARY:HG. Butzko - Der will nicht nur spielen
DESCRIPTION:Die einen sagen so\, die anderen sagen so\, und der Rest fragt sich: „Ist das wirklich alles?“ Aber anscheinend gilt bei uns nur noch „Schwarz oder Weiss“ und nichts mehr dazwischen. Jung gegen Alt\, Stadt gegen Land\, West gegen Ost\, und immer Kopf gegen Wand. Doch wie gut\, dass es HG. Butzko gibt\, den Erfinder des Kumpelkabaretts\, ausgezeichnet mit allen bedeutenden Kleinkunstpreisen und dauerpräsent in allen Satiresendungen. \nEin Mann\, ein Stehtisch\, eine Meinung! Kein Schnickschnack\, kein Gedöns! Und in einer Zeit\, in der die Spaltung der Gesellschaft vorangetrieben wird\, wagt HG. Butzko jetzt etwas Neues: Einen Akt auf dem Drahtseil\, den Spagat auf schmalem Grat\, und die Schublade\, in die man ihn stecken will\, ist aus dem Rahmen gefallen … \nTickets unter: Tickets (kulturbuero-waltrop.de)
URL:https://stadthallewaltrop.de/event/hg-butzko-der-will-nicht-nur-spielen/
LOCATION:Saal 1 + 2
CATEGORIES:Kleinkunst/Comedy/Kabarett
ATTACH;FMTTYPE=image/jpeg:https://stadthallewaltrop.de/wp-content/uploads/2024/07/WINSFoto-scaled.jpg
ORGANIZER;CN="Kulturb%C3%BCro der Stadt Waltrop":MAILTO:info@kulturbuero-waltrop.de
END:VEVENT
BEGIN:VEVENT
DTSTART;TZID=Europe/Berlin:20241006T110000
DTEND;TZID=Europe/Berlin:20241006T170000
DTSTAMP:20260424T193809
CREATED:20240731T062551Z
LAST-MODIFIED:20240731T062551Z
UID:10000104-1728212400-1728234000@stadthallewaltrop.de
SUMMARY:8. Waltroper Büchermarkt
DESCRIPTION:Erleben Sie die wunderbare Welt der Literatur auf dem Waltroper Büchermarkt\, einem Treffpunkt für Bücherfreunde und Literaturliebhaber jeden Alters. Bei uns finden Sie eine beeindruckende Auswahl an Büchern\, von zeitlosen Klassikern bis hin zu den neuesten Bestsellern. Ob Romane\, Sachbücher\, Kinderbücher oder Raritäten – hier ist für jeden etwas dabei! \nLassen Sie sich von der einzigartigen Atmosphäre inspirieren\, stöbern Sie an den vielfältigen Ständen und entdecken Sie literarische Schätze. Nutzen Sie die Gelegenheit\, sich mit anderen Lesebegeisterten auszutauschen und neue Lieblingsbücher zu entdecken. \nAnmeldung für Aussteller:innen ab dem 11. August 18 Uhr unter Tickets (kulturbuero-waltrop.de)
URL:https://stadthallewaltrop.de/event/8-waltroper-buechermarkt/
LOCATION:Saal 1 + 2
CATEGORIES:Buchmesse
ATTACH;FMTTYPE=image/jpeg:https://stadthallewaltrop.de/wp-content/uploads/2024/07/Banner-Buechermarkt.jpg
ORGANIZER;CN="Kulturb%C3%BCro der Stadt Waltrop":MAILTO:info@kulturbuero-waltrop.de
END:VEVENT
BEGIN:VEVENT
DTSTART;TZID=Europe/Berlin:20240921T180000
DTEND;TZID=Europe/Berlin:20240921T200000
DTSTAMP:20260424T193809
CREATED:20240731T055131Z
LAST-MODIFIED:20240731T055131Z
UID:10000096-1726941600-1726948800@stadthallewaltrop.de
SUMMARY:Cantiamo rockt!
DESCRIPTION:Der Cantiamo Chor Castrop-Rauxel und Band präsentieren „Cantiamo rockt!“. \nFreut euch auf Rock-Classics von Queen\, Bon Jovi\, Tina Turner\, Metallica und mehr… Es wird ein Abend voller guter Laune und bekannter Hits in neuem Gewand. Wie immer haben wir eine phantastische Band an unserer Seite\, mit der wir gemeinsam die Stadthalle rocken werden! \nDie musikalische Leitung hat Markus Leymann.
URL:https://stadthallewaltrop.de/event/cantiamo-rockt/
LOCATION:Saal 1 + 2
CATEGORIES:Konzert
ATTACH;FMTTYPE=image/jpeg:https://stadthallewaltrop.de/wp-content/uploads/2024/06/Screen_1920x1080.jpg
ORGANIZER;CN="Kulturb%C3%BCro der Stadt Waltrop":MAILTO:info@kulturbuero-waltrop.de
END:VEVENT
END:VCALENDAR